BEGIN:VCALENDAR
VERSION:2.0
PRODID:-//Lealman Exchange - ECPv6.15.20//NONSGML v1.0//EN
CALSCALE:GREGORIAN
METHOD:PUBLISH
X-WR-CALNAME:Lealman Exchange
X-ORIGINAL-URL:https://lealmanexchange.org
X-WR-CALDESC:Events for Lealman Exchange
REFRESH-INTERVAL;VALUE=DURATION:PT1H
X-Robots-Tag:noindex
X-PUBLISHED-TTL:PT1H
BEGIN:VTIMEZONE
TZID:America/New_York
BEGIN:DAYLIGHT
TZOFFSETFROM:-0500
TZOFFSETTO:-0400
TZNAME:EDT
DTSTART:20250309T070000
END:DAYLIGHT
BEGIN:STANDARD
TZOFFSETFROM:-0400
TZOFFSETTO:-0500
TZNAME:EST
DTSTART:20251102T060000
END:STANDARD
BEGIN:DAYLIGHT
TZOFFSETFROM:-0500
TZOFFSETTO:-0400
TZNAME:EDT
DTSTART:20260308T070000
END:DAYLIGHT
BEGIN:STANDARD
TZOFFSETFROM:-0400
TZOFFSETTO:-0500
TZNAME:EST
DTSTART:20261101T060000
END:STANDARD
BEGIN:DAYLIGHT
TZOFFSETFROM:-0500
TZOFFSETTO:-0400
TZNAME:EDT
DTSTART:20270314T070000
END:DAYLIGHT
BEGIN:STANDARD
TZOFFSETFROM:-0400
TZOFFSETTO:-0500
TZNAME:EST
DTSTART:20271107T060000
END:STANDARD
END:VTIMEZONE
BEGIN:VEVENT
DTSTART;TZID=America/New_York:20260503T090000
DTEND;TZID=America/New_York:20260503T130000
DTSTAMP:20260423T093709
CREATED:20260127T155111Z
LAST-MODIFIED:20260414T202046Z
UID:10018618-1777798800-1777813200@lealmanexchange.org
SUMMARY:Lealman Farmers Market
DESCRIPTION:The Lealman Farmers Market is back for its Second Season!\nOctober 2025 through May 2026\, the Lealman Exchange presents the Lealman Farmers Market.  From 9 a.m. to 1 p.m. at Lealman Neighborhood Park: 3875 54th Avenue North.\nFinal Dates of the 2025-26 Season:\nSunday\, April 19th\nSunday\, May 3rd\nSunday\, May 31st\n\nOur mission is to bring fresh\, affordable produce and farm-to-table goodness to the residents of Lealman\, while supporting our local farmers and artisans.
URL:https://lealmanexchange.org/event/lealman-farmers-market-2-2/2026-05-03/
LOCATION:Lealman Community Park\, 3875 54th Ave N\, St. Petersburg\, 33714\, United States
CATEGORIES:Community
ATTACH;FMTTYPE=image/png:https://lealmanexchange.org/wp-content/uploads/2026/01/LFM-MAY-2026.png
ORGANIZER;CN="Lealman Exchange":MAILTO:connect@lealmanexchange.org
END:VEVENT
BEGIN:VEVENT
DTSTART;TZID=America/New_York:20260506T183000
DTEND;TZID=America/New_York:20260506T200000
DTSTAMP:20260423T093709
CREATED:20250411T164517Z
LAST-MODIFIED:20251218T200339Z
UID:10023055-1778092200-1778097600@lealmanexchange.org
SUMMARY:Lealman Community Association Monthly Meeting
DESCRIPTION:The Lealman Community Association has been serving Lealman residents for over 20 years.  At the monthly meetings\, hear from community organizations about happenings\, from emergency services with updates\, and socialize with your neighbors. \nFirst Wednesday of every month\, except July.  Doors open at 6:30pm; meeting begins at 7pm. \nTo request an agenda item\, email lealmancommunityassociation@gmail.com.
URL:https://lealmanexchange.org/event/lealman-community-association-monthly-meeting/2026-05-06/
LOCATION:Lealman Exchange\, 5175 45TH ST N\, Lealman\, FL\, 33714\, United States
CATEGORIES:Community
ATTACH;FMTTYPE=image/png:https://lealmanexchange.org/wp-content/uploads/2025/04/Untitled-design-27-e1744389759804.png
ORGANIZER;CN="Lealman Exchange":MAILTO:connect@lealmanexchange.org
END:VEVENT
BEGIN:VEVENT
DTSTART;TZID=America/New_York:20260507T100000
DTEND;TZID=America/New_York:20260507T110000
DTSTAMP:20260423T093709
CREATED:20251118T214415Z
LAST-MODIFIED:20251118T215357Z
UID:10022651-1778148000-1778151600@lealmanexchange.org
SUMMARY:YMCA Neuro Challenge Care Partner Connection Support Group
DESCRIPTION:Parkinson’s Disease Programs\nThe Y offers several Community Health Programs to support individuals with Parkinson’s Disease and their care partners. These programs aim to provide a supportive community and instill hope by optimizing function and restoring independence. \n\nYMCA Neuro Challenge Care Partner Connection Support Group – Thursdays\, 10:00 – 11:00AM\n\nIndividuals can enroll in one or multiple of these Community Health Programs simultaneously. Learn More \nHosted by the YMCA of Greater St. Petersburg – https://www.stpeteymca.org/locations/resource-centers/ymca-at-lealman-exchange/
URL:https://lealmanexchange.org/event/ymca-neuro-challenge-care-partner-connection-support-group/2026-05-07/
LOCATION:Lealman Exchange\, 5175 45TH ST N\, Lealman\, FL\, 33714\, United States
CATEGORIES:Community
ATTACH;FMTTYPE=image/png:https://lealmanexchange.org/wp-content/uploads/2025/11/4.png
ORGANIZER;CN="Lealman Exchange":MAILTO:connect@lealmanexchange.org
END:VEVENT
BEGIN:VEVENT
DTSTART;TZID=America/New_York:20260514T100000
DTEND;TZID=America/New_York:20260514T110000
DTSTAMP:20260423T093709
CREATED:20251118T214415Z
LAST-MODIFIED:20251118T215357Z
UID:10022652-1778752800-1778756400@lealmanexchange.org
SUMMARY:YMCA Neuro Challenge Care Partner Connection Support Group
DESCRIPTION:Parkinson’s Disease Programs\nThe Y offers several Community Health Programs to support individuals with Parkinson’s Disease and their care partners. These programs aim to provide a supportive community and instill hope by optimizing function and restoring independence. \n\nYMCA Neuro Challenge Care Partner Connection Support Group – Thursdays\, 10:00 – 11:00AM\n\nIndividuals can enroll in one or multiple of these Community Health Programs simultaneously. Learn More \nHosted by the YMCA of Greater St. Petersburg – https://www.stpeteymca.org/locations/resource-centers/ymca-at-lealman-exchange/
URL:https://lealmanexchange.org/event/ymca-neuro-challenge-care-partner-connection-support-group/2026-05-14/
LOCATION:Lealman Exchange\, 5175 45TH ST N\, Lealman\, FL\, 33714\, United States
CATEGORIES:Community
ATTACH;FMTTYPE=image/png:https://lealmanexchange.org/wp-content/uploads/2025/11/4.png
ORGANIZER;CN="Lealman Exchange":MAILTO:connect@lealmanexchange.org
END:VEVENT
BEGIN:VEVENT
DTSTART;TZID=America/New_York:20260521T100000
DTEND;TZID=America/New_York:20260521T110000
DTSTAMP:20260423T093709
CREATED:20251118T214415Z
LAST-MODIFIED:20251118T215357Z
UID:10022653-1779357600-1779361200@lealmanexchange.org
SUMMARY:YMCA Neuro Challenge Care Partner Connection Support Group
DESCRIPTION:Parkinson’s Disease Programs\nThe Y offers several Community Health Programs to support individuals with Parkinson’s Disease and their care partners. These programs aim to provide a supportive community and instill hope by optimizing function and restoring independence. \n\nYMCA Neuro Challenge Care Partner Connection Support Group – Thursdays\, 10:00 – 11:00AM\n\nIndividuals can enroll in one or multiple of these Community Health Programs simultaneously. Learn More \nHosted by the YMCA of Greater St. Petersburg – https://www.stpeteymca.org/locations/resource-centers/ymca-at-lealman-exchange/
URL:https://lealmanexchange.org/event/ymca-neuro-challenge-care-partner-connection-support-group/2026-05-21/
LOCATION:Lealman Exchange\, 5175 45TH ST N\, Lealman\, FL\, 33714\, United States
CATEGORIES:Community
ATTACH;FMTTYPE=image/png:https://lealmanexchange.org/wp-content/uploads/2025/11/4.png
ORGANIZER;CN="Lealman Exchange":MAILTO:connect@lealmanexchange.org
END:VEVENT
BEGIN:VEVENT
DTSTART;TZID=America/New_York:20260523T130000
DTEND;TZID=America/New_York:20260523T150000
DTSTAMP:20260423T093709
CREATED:20260316T142839Z
LAST-MODIFIED:20260316T142839Z
UID:10023328-1779541200-1779548400@lealmanexchange.org
SUMMARY:American Hibiscus Society Sunset Chapter: Annual Show & Plant Sale
DESCRIPTION:Lealman Exchange will host the American Hibiscus Society Sunset Chapter’s Annual Show and Plant Sale on Saturday\, May 23rd from 1-3pm.  The show is free to the public; plant sale prices vary by variety.  Learn more at http://sunsetchapter.org/
URL:https://lealmanexchange.org/event/american-hibiscus-society-sunset-chapter-annual-show-plant-sale/
LOCATION:Lealman Exchange\, 5175 45TH ST N\, Lealman\, FL\, 33714\, United States
CATEGORIES:Community
ATTACH;FMTTYPE=image/jpeg:https://lealmanexchange.org/wp-content/uploads/2026/03/DSC_5986-scaled.jpg
ORGANIZER;CN="Lealman Exchange":MAILTO:connect@lealmanexchange.org
END:VEVENT
BEGIN:VEVENT
DTSTART;VALUE=DATE:20260525
DTEND;VALUE=DATE:20260526
DTSTAMP:20260423T093709
CREATED:20250721T135426Z
LAST-MODIFIED:20250903T175639Z
UID:10019054-1779696000-1779728400@lealmanexchange.org
SUMMARY:HOLIDAY - LEX CLOSED
DESCRIPTION:The Lealman Exchange is closed today.
URL:https://lealmanexchange.org/event/holiday-lex-closed/2026-05-25/
LOCATION:Lealman Exchange\, 5175 45TH ST N\, Lealman\, FL\, 33714\, United States
CATEGORIES:Community
ORGANIZER;CN="Lealman Exchange":MAILTO:connect@lealmanexchange.org
END:VEVENT
BEGIN:VEVENT
DTSTART;TZID=America/New_York:20260527T180000
DTEND;TZID=America/New_York:20260527T200000
DTSTAMP:20260423T093709
CREATED:20250929T164604Z
LAST-MODIFIED:20260126T151803Z
UID:10019112-1779904800-1779912000@lealmanexchange.org
SUMMARY:Lealman CRA Advisory Committee Meeting
DESCRIPTION:The purpose of the Lealman CRA Advisory Committee is to advise the Community Redevelopment Agency for the Lealman CRA on the community redevelopment plan and any amendments thereto\, and on issues and policies with the Lealman CRA.  Learn more at https://pinellas.gov/lealman-community-redevelopment-area/ \nMeetings will be held at: \nLealman Exchange\n5175 45th Street North\, St. Petersburg\, FL 33714\n6:00 p.m.\, 4th Wednesday of the month\n(unless otherwise indicated) \nZoom Meeting Information\nhttps://us02web.zoom.us/j/84398669953?pwd=VTZOUDZJTjBJZlZxYXQ0ZFdiOFdZdz09\nMeeting ID: 843 9866 9953\nPasscode: 29502
URL:https://lealmanexchange.org/event/lealman-cra-advisory-committee-meeting/2026-05-27/
LOCATION:Lealman Exchange\, 5175 45TH ST N\, Lealman\, FL\, 33714\, United States
CATEGORIES:Community
ATTACH;FMTTYPE=image/png:https://lealmanexchange.org/wp-content/uploads/2025/09/Lealman_2022_final_logo_color_1024x711.png
ORGANIZER;CN="Lealman Exchange":MAILTO:connect@lealmanexchange.org
END:VEVENT
BEGIN:VEVENT
DTSTART;TZID=America/New_York:20260528T100000
DTEND;TZID=America/New_York:20260528T110000
DTSTAMP:20260423T093709
CREATED:20251118T214415Z
LAST-MODIFIED:20251118T215357Z
UID:10022654-1779962400-1779966000@lealmanexchange.org
SUMMARY:YMCA Neuro Challenge Care Partner Connection Support Group
DESCRIPTION:Parkinson’s Disease Programs\nThe Y offers several Community Health Programs to support individuals with Parkinson’s Disease and their care partners. These programs aim to provide a supportive community and instill hope by optimizing function and restoring independence. \n\nYMCA Neuro Challenge Care Partner Connection Support Group – Thursdays\, 10:00 – 11:00AM\n\nIndividuals can enroll in one or multiple of these Community Health Programs simultaneously. Learn More \nHosted by the YMCA of Greater St. Petersburg – https://www.stpeteymca.org/locations/resource-centers/ymca-at-lealman-exchange/
URL:https://lealmanexchange.org/event/ymca-neuro-challenge-care-partner-connection-support-group/2026-05-28/
LOCATION:Lealman Exchange\, 5175 45TH ST N\, Lealman\, FL\, 33714\, United States
CATEGORIES:Community
ATTACH;FMTTYPE=image/png:https://lealmanexchange.org/wp-content/uploads/2025/11/4.png
ORGANIZER;CN="Lealman Exchange":MAILTO:connect@lealmanexchange.org
END:VEVENT
BEGIN:VEVENT
DTSTART;TZID=America/New_York:20260531T090000
DTEND;TZID=America/New_York:20260531T130000
DTSTAMP:20260423T093709
CREATED:20260127T155111Z
LAST-MODIFIED:20260414T202046Z
UID:10023327-1780218000-1780232400@lealmanexchange.org
SUMMARY:Lealman Farmers Market
DESCRIPTION:The Lealman Farmers Market is back for its Second Season!\nOctober 2025 through May 2026\, the Lealman Exchange presents the Lealman Farmers Market.  From 9 a.m. to 1 p.m. at Lealman Neighborhood Park: 3875 54th Avenue North.\nFinal Dates of the 2025-26 Season:\nSunday\, April 19th\nSunday\, May 3rd\nSunday\, May 31st\n\nOur mission is to bring fresh\, affordable produce and farm-to-table goodness to the residents of Lealman\, while supporting our local farmers and artisans.
URL:https://lealmanexchange.org/event/lealman-farmers-market-2-2/2026-05-31/
LOCATION:Lealman Community Park\, 3875 54th Ave N\, St. Petersburg\, 33714\, United States
CATEGORIES:Community
ATTACH;FMTTYPE=image/png:https://lealmanexchange.org/wp-content/uploads/2026/01/LFM-MAY-2026.png
ORGANIZER;CN="Lealman Exchange":MAILTO:connect@lealmanexchange.org
END:VEVENT
END:VCALENDAR