BEGIN:VCALENDAR
VERSION:2.0
PRODID:-//Lealman Exchange - ECPv6.15.20//NONSGML v1.0//EN
CALSCALE:GREGORIAN
METHOD:PUBLISH
X-ORIGINAL-URL:https://lealmanexchange.org
X-WR-CALDESC:Events for Lealman Exchange
REFRESH-INTERVAL;VALUE=DURATION:PT1H
X-Robots-Tag:noindex
X-PUBLISHED-TTL:PT1H
BEGIN:VTIMEZONE
TZID:America/New_York
BEGIN:DAYLIGHT
TZOFFSETFROM:-0500
TZOFFSETTO:-0400
TZNAME:EDT
DTSTART:20250309T070000
END:DAYLIGHT
BEGIN:STANDARD
TZOFFSETFROM:-0400
TZOFFSETTO:-0500
TZNAME:EST
DTSTART:20251102T060000
END:STANDARD
BEGIN:DAYLIGHT
TZOFFSETFROM:-0500
TZOFFSETTO:-0400
TZNAME:EDT
DTSTART:20260308T070000
END:DAYLIGHT
BEGIN:STANDARD
TZOFFSETFROM:-0400
TZOFFSETTO:-0500
TZNAME:EST
DTSTART:20261101T060000
END:STANDARD
BEGIN:DAYLIGHT
TZOFFSETFROM:-0500
TZOFFSETTO:-0400
TZNAME:EDT
DTSTART:20270314T070000
END:DAYLIGHT
BEGIN:STANDARD
TZOFFSETFROM:-0400
TZOFFSETTO:-0500
TZNAME:EST
DTSTART:20271107T060000
END:STANDARD
END:VTIMEZONE
BEGIN:VEVENT
DTSTART;TZID=America/New_York:20260331T090000
DTEND;TZID=America/New_York:20260331T120000
DTSTAMP:20260421T041540
CREATED:20260220T144252Z
LAST-MODIFIED:20260406T204434Z
UID:10023269-1774947600-1774958400@lealmanexchange.org
SUMMARY:Community Tech Desk
DESCRIPTION:Welcome to the Community Tech Desk! \nConfused by your tablet? Not sure if that text message is real? Want to feel more confident\nonline? \nThink of this as a relaxed space to ask questions and learn at your own pace. We focus on\nhelping you understand your device so you feel safe and comfortable using it. \nBring your device for help with:\n● Learning how to send photos or join a video call\n● Reviewing a suspicious email or text\n● Adjusting font size and brightness for easier viewing\n● Talking through password safety in simple\, manageable ways\n● Getting honest advice before buying new technology \nStop by every Tuesday from 9 AM to 12 PM.\nNo question is too small — we’re here to help. \n  \nPowered by Unique IT Pro and Codeboxx Foundation
URL:https://lealmanexchange.org/event/community-tech-desk/2026-03-31/
LOCATION:Lealman Exchange\, 5175 45TH ST N\, Lealman\, FL\, 33714\, United States
CATEGORIES:Education
ATTACH;FMTTYPE=image/png:https://lealmanexchange.org/wp-content/uploads/2026/02/community-tech-desk-1.png
ORGANIZER;CN="Lealman Exchange":MAILTO:connect@lealmanexchange.org
END:VEVENT
END:VCALENDAR