BEGIN:VCALENDAR
VERSION:2.0
PRODID:-//Lealman Exchange - ECPv6.15.20//NONSGML v1.0//EN
CALSCALE:GREGORIAN
METHOD:PUBLISH
X-ORIGINAL-URL:https://lealmanexchange.org
X-WR-CALDESC:Events for Lealman Exchange
REFRESH-INTERVAL;VALUE=DURATION:PT1H
X-Robots-Tag:noindex
X-PUBLISHED-TTL:PT1H
BEGIN:VTIMEZONE
TZID:America/New_York
BEGIN:DAYLIGHT
TZOFFSETFROM:-0500
TZOFFSETTO:-0400
TZNAME:EDT
DTSTART:20250309T070000
END:DAYLIGHT
BEGIN:STANDARD
TZOFFSETFROM:-0400
TZOFFSETTO:-0500
TZNAME:EST
DTSTART:20251102T060000
END:STANDARD
BEGIN:DAYLIGHT
TZOFFSETFROM:-0500
TZOFFSETTO:-0400
TZNAME:EDT
DTSTART:20260308T070000
END:DAYLIGHT
BEGIN:STANDARD
TZOFFSETFROM:-0400
TZOFFSETTO:-0500
TZNAME:EST
DTSTART:20261101T060000
END:STANDARD
BEGIN:DAYLIGHT
TZOFFSETFROM:-0500
TZOFFSETTO:-0400
TZNAME:EDT
DTSTART:20270314T070000
END:DAYLIGHT
BEGIN:STANDARD
TZOFFSETFROM:-0400
TZOFFSETTO:-0500
TZNAME:EST
DTSTART:20271107T060000
END:STANDARD
END:VTIMEZONE
BEGIN:VEVENT
DTSTART;TZID=America/New_York:20260505T100000
DTEND;TZID=America/New_York:20260505T110000
DTSTAMP:20260422T074953
CREATED:20251118T212845Z
LAST-MODIFIED:20251118T215455Z
UID:10021637-1777975200-1777978800@lealmanexchange.org
SUMMARY:Total Parkinson's
DESCRIPTION:Parkinson’s Disease Programs\nThe Y offers several Community Health Programs to support individuals with Parkinson’s Disease and their care partners. These programs aim to provide a supportive community and instill hope by optimizing function and restoring independence. \n\nTotal Parkinson’s\, an exercise program for various ability levels – Thursdays\, 10:00 – 11:00AM\n\nIndividuals can enroll in one or multiple of these Community Health Programs simultaneously. Learn More \nHosted by the YMCA of Greater St. Petersburg – https://www.stpeteymca.org/locations/resource-centers/ymca-at-lealman-exchange/
URL:https://lealmanexchange.org/event/total-parkinsons/2026-05-05/
LOCATION:Lealman Exchange\, 5175 45TH ST N\, Lealman\, FL\, 33714\, United States
CATEGORIES:Health and Wellness
ATTACH;FMTTYPE=image/png:https://lealmanexchange.org/wp-content/uploads/2025/11/3.png
ORGANIZER;CN="Lealman Exchange":MAILTO:connect@lealmanexchange.org
END:VEVENT
BEGIN:VEVENT
DTSTART;TZID=America/New_York:20260505T110000
DTEND;TZID=America/New_York:20260505T120000
DTSTAMP:20260422T074953
CREATED:20251118T213237Z
LAST-MODIFIED:20251118T215426Z
UID:10022135-1777978800-1777982400@lealmanexchange.org
SUMMARY:SilverSneakers® EnerChi
DESCRIPTION:SilverSneakers® EnerChi\nHeld Tuesdays\, 11AM – 12PM\nThis class uses modified Tai Chi and yoga movements in a slow\, flowing sequence to improve balance and flexibility. A chair is provided for support. Mats are optional. \nHosted by the YMCA of Greater St. Petersburg – https://www.stpeteymca.org/locations/resource-centers/ymca-at-lealman-exchange/
URL:https://lealmanexchange.org/event/silversneakers-enerchi/2026-05-05/
LOCATION:Lealman Exchange\, 5175 45TH ST N\, Lealman\, FL\, 33714\, United States
CATEGORIES:Health and Wellness
ATTACH;FMTTYPE=image/png:https://lealmanexchange.org/wp-content/uploads/2025/11/2.png
ORGANIZER;CN="Lealman Exchange":MAILTO:connect@lealmanexchange.org
END:VEVENT
BEGIN:VEVENT
DTSTART;TZID=America/New_York:20260507T100000
DTEND;TZID=America/New_York:20260507T110000
DTSTAMP:20260422T074953
CREATED:20251118T212845Z
LAST-MODIFIED:20251118T215455Z
UID:10021638-1778148000-1778151600@lealmanexchange.org
SUMMARY:Total Parkinson's
DESCRIPTION:Parkinson’s Disease Programs\nThe Y offers several Community Health Programs to support individuals with Parkinson’s Disease and their care partners. These programs aim to provide a supportive community and instill hope by optimizing function and restoring independence. \n\nTotal Parkinson’s\, an exercise program for various ability levels – Thursdays\, 10:00 – 11:00AM\n\nIndividuals can enroll in one or multiple of these Community Health Programs simultaneously. Learn More \nHosted by the YMCA of Greater St. Petersburg – https://www.stpeteymca.org/locations/resource-centers/ymca-at-lealman-exchange/
URL:https://lealmanexchange.org/event/total-parkinsons/2026-05-07/
LOCATION:Lealman Exchange\, 5175 45TH ST N\, Lealman\, FL\, 33714\, United States
CATEGORIES:Health and Wellness
ATTACH;FMTTYPE=image/png:https://lealmanexchange.org/wp-content/uploads/2025/11/3.png
ORGANIZER;CN="Lealman Exchange":MAILTO:connect@lealmanexchange.org
END:VEVENT
BEGIN:VEVENT
DTSTART;TZID=America/New_York:20260507T100000
DTEND;TZID=America/New_York:20260507T110000
DTSTAMP:20260422T074953
CREATED:20251118T214415Z
LAST-MODIFIED:20251118T215357Z
UID:10022651-1778148000-1778151600@lealmanexchange.org
SUMMARY:YMCA Neuro Challenge Care Partner Connection Support Group
DESCRIPTION:Parkinson’s Disease Programs\nThe Y offers several Community Health Programs to support individuals with Parkinson’s Disease and their care partners. These programs aim to provide a supportive community and instill hope by optimizing function and restoring independence. \n\nYMCA Neuro Challenge Care Partner Connection Support Group – Thursdays\, 10:00 – 11:00AM\n\nIndividuals can enroll in one or multiple of these Community Health Programs simultaneously. Learn More \nHosted by the YMCA of Greater St. Petersburg – https://www.stpeteymca.org/locations/resource-centers/ymca-at-lealman-exchange/
URL:https://lealmanexchange.org/event/ymca-neuro-challenge-care-partner-connection-support-group/2026-05-07/
LOCATION:Lealman Exchange\, 5175 45TH ST N\, Lealman\, FL\, 33714\, United States
CATEGORIES:Community
ATTACH;FMTTYPE=image/png:https://lealmanexchange.org/wp-content/uploads/2025/11/4.png
ORGANIZER;CN="Lealman Exchange":MAILTO:connect@lealmanexchange.org
END:VEVENT
BEGIN:VEVENT
DTSTART;TZID=America/New_York:20260507T110000
DTEND;TZID=America/New_York:20260507T120000
DTSTAMP:20260422T074953
CREATED:20251118T213838Z
LAST-MODIFIED:20251118T215330Z
UID:10022393-1778151600-1778155200@lealmanexchange.org
SUMMARY:YMCA Mindful Movement
DESCRIPTION:YMCA Mindful Movement\nHeld Thursdays\, 11AM – 12PM\nA therapeutic adaptive yoga class. Chair is optional. \nHosted by the YMCA of Greater St. Petersburg – https://www.stpeteymca.org/locations/resource-centers/ymca-at-lealman-exchange/
URL:https://lealmanexchange.org/event/ymca-mindful-movement/2026-05-07/
LOCATION:Lealman Exchange\, 5175 45TH ST N\, Lealman\, FL\, 33714\, United States
CATEGORIES:Health and Wellness
ATTACH;FMTTYPE=image/png:https://lealmanexchange.org/wp-content/uploads/2025/11/5.png
ORGANIZER;CN="Lealman Exchange":MAILTO:connect@lealmanexchange.org
END:VEVENT
BEGIN:VEVENT
DTSTART;TZID=America/New_York:20260512T100000
DTEND;TZID=America/New_York:20260512T110000
DTSTAMP:20260422T074953
CREATED:20251118T212845Z
LAST-MODIFIED:20251118T215455Z
UID:10021639-1778580000-1778583600@lealmanexchange.org
SUMMARY:Total Parkinson's
DESCRIPTION:Parkinson’s Disease Programs\nThe Y offers several Community Health Programs to support individuals with Parkinson’s Disease and their care partners. These programs aim to provide a supportive community and instill hope by optimizing function and restoring independence. \n\nTotal Parkinson’s\, an exercise program for various ability levels – Thursdays\, 10:00 – 11:00AM\n\nIndividuals can enroll in one or multiple of these Community Health Programs simultaneously. Learn More \nHosted by the YMCA of Greater St. Petersburg – https://www.stpeteymca.org/locations/resource-centers/ymca-at-lealman-exchange/
URL:https://lealmanexchange.org/event/total-parkinsons/2026-05-12/
LOCATION:Lealman Exchange\, 5175 45TH ST N\, Lealman\, FL\, 33714\, United States
CATEGORIES:Health and Wellness
ATTACH;FMTTYPE=image/png:https://lealmanexchange.org/wp-content/uploads/2025/11/3.png
ORGANIZER;CN="Lealman Exchange":MAILTO:connect@lealmanexchange.org
END:VEVENT
BEGIN:VEVENT
DTSTART;TZID=America/New_York:20260512T110000
DTEND;TZID=America/New_York:20260512T120000
DTSTAMP:20260422T074953
CREATED:20251118T213237Z
LAST-MODIFIED:20251118T215426Z
UID:10022136-1778583600-1778587200@lealmanexchange.org
SUMMARY:SilverSneakers® EnerChi
DESCRIPTION:SilverSneakers® EnerChi\nHeld Tuesdays\, 11AM – 12PM\nThis class uses modified Tai Chi and yoga movements in a slow\, flowing sequence to improve balance and flexibility. A chair is provided for support. Mats are optional. \nHosted by the YMCA of Greater St. Petersburg – https://www.stpeteymca.org/locations/resource-centers/ymca-at-lealman-exchange/
URL:https://lealmanexchange.org/event/silversneakers-enerchi/2026-05-12/
LOCATION:Lealman Exchange\, 5175 45TH ST N\, Lealman\, FL\, 33714\, United States
CATEGORIES:Health and Wellness
ATTACH;FMTTYPE=image/png:https://lealmanexchange.org/wp-content/uploads/2025/11/2.png
ORGANIZER;CN="Lealman Exchange":MAILTO:connect@lealmanexchange.org
END:VEVENT
BEGIN:VEVENT
DTSTART;TZID=America/New_York:20260514T100000
DTEND;TZID=America/New_York:20260514T110000
DTSTAMP:20260422T074953
CREATED:20251118T212845Z
LAST-MODIFIED:20251118T215455Z
UID:10021640-1778752800-1778756400@lealmanexchange.org
SUMMARY:Total Parkinson's
DESCRIPTION:Parkinson’s Disease Programs\nThe Y offers several Community Health Programs to support individuals with Parkinson’s Disease and their care partners. These programs aim to provide a supportive community and instill hope by optimizing function and restoring independence. \n\nTotal Parkinson’s\, an exercise program for various ability levels – Thursdays\, 10:00 – 11:00AM\n\nIndividuals can enroll in one or multiple of these Community Health Programs simultaneously. Learn More \nHosted by the YMCA of Greater St. Petersburg – https://www.stpeteymca.org/locations/resource-centers/ymca-at-lealman-exchange/
URL:https://lealmanexchange.org/event/total-parkinsons/2026-05-14/
LOCATION:Lealman Exchange\, 5175 45TH ST N\, Lealman\, FL\, 33714\, United States
CATEGORIES:Health and Wellness
ATTACH;FMTTYPE=image/png:https://lealmanexchange.org/wp-content/uploads/2025/11/3.png
ORGANIZER;CN="Lealman Exchange":MAILTO:connect@lealmanexchange.org
END:VEVENT
BEGIN:VEVENT
DTSTART;TZID=America/New_York:20260514T100000
DTEND;TZID=America/New_York:20260514T110000
DTSTAMP:20260422T074953
CREATED:20251118T214415Z
LAST-MODIFIED:20251118T215357Z
UID:10022652-1778752800-1778756400@lealmanexchange.org
SUMMARY:YMCA Neuro Challenge Care Partner Connection Support Group
DESCRIPTION:Parkinson’s Disease Programs\nThe Y offers several Community Health Programs to support individuals with Parkinson’s Disease and their care partners. These programs aim to provide a supportive community and instill hope by optimizing function and restoring independence. \n\nYMCA Neuro Challenge Care Partner Connection Support Group – Thursdays\, 10:00 – 11:00AM\n\nIndividuals can enroll in one or multiple of these Community Health Programs simultaneously. Learn More \nHosted by the YMCA of Greater St. Petersburg – https://www.stpeteymca.org/locations/resource-centers/ymca-at-lealman-exchange/
URL:https://lealmanexchange.org/event/ymca-neuro-challenge-care-partner-connection-support-group/2026-05-14/
LOCATION:Lealman Exchange\, 5175 45TH ST N\, Lealman\, FL\, 33714\, United States
CATEGORIES:Community
ATTACH;FMTTYPE=image/png:https://lealmanexchange.org/wp-content/uploads/2025/11/4.png
ORGANIZER;CN="Lealman Exchange":MAILTO:connect@lealmanexchange.org
END:VEVENT
BEGIN:VEVENT
DTSTART;TZID=America/New_York:20260514T110000
DTEND;TZID=America/New_York:20260514T120000
DTSTAMP:20260422T074953
CREATED:20251118T213838Z
LAST-MODIFIED:20251118T215330Z
UID:10022394-1778756400-1778760000@lealmanexchange.org
SUMMARY:YMCA Mindful Movement
DESCRIPTION:YMCA Mindful Movement\nHeld Thursdays\, 11AM – 12PM\nA therapeutic adaptive yoga class. Chair is optional. \nHosted by the YMCA of Greater St. Petersburg – https://www.stpeteymca.org/locations/resource-centers/ymca-at-lealman-exchange/
URL:https://lealmanexchange.org/event/ymca-mindful-movement/2026-05-14/
LOCATION:Lealman Exchange\, 5175 45TH ST N\, Lealman\, FL\, 33714\, United States
CATEGORIES:Health and Wellness
ATTACH;FMTTYPE=image/png:https://lealmanexchange.org/wp-content/uploads/2025/11/5.png
ORGANIZER;CN="Lealman Exchange":MAILTO:connect@lealmanexchange.org
END:VEVENT
BEGIN:VEVENT
DTSTART;TZID=America/New_York:20260519T100000
DTEND;TZID=America/New_York:20260519T110000
DTSTAMP:20260422T074953
CREATED:20251118T212845Z
LAST-MODIFIED:20251118T215455Z
UID:10021641-1779184800-1779188400@lealmanexchange.org
SUMMARY:Total Parkinson's
DESCRIPTION:Parkinson’s Disease Programs\nThe Y offers several Community Health Programs to support individuals with Parkinson’s Disease and their care partners. These programs aim to provide a supportive community and instill hope by optimizing function and restoring independence. \n\nTotal Parkinson’s\, an exercise program for various ability levels – Thursdays\, 10:00 – 11:00AM\n\nIndividuals can enroll in one or multiple of these Community Health Programs simultaneously. Learn More \nHosted by the YMCA of Greater St. Petersburg – https://www.stpeteymca.org/locations/resource-centers/ymca-at-lealman-exchange/
URL:https://lealmanexchange.org/event/total-parkinsons/2026-05-19/
LOCATION:Lealman Exchange\, 5175 45TH ST N\, Lealman\, FL\, 33714\, United States
CATEGORIES:Health and Wellness
ATTACH;FMTTYPE=image/png:https://lealmanexchange.org/wp-content/uploads/2025/11/3.png
ORGANIZER;CN="Lealman Exchange":MAILTO:connect@lealmanexchange.org
END:VEVENT
BEGIN:VEVENT
DTSTART;TZID=America/New_York:20260519T110000
DTEND;TZID=America/New_York:20260519T120000
DTSTAMP:20260422T074953
CREATED:20251118T213237Z
LAST-MODIFIED:20251118T215426Z
UID:10022137-1779188400-1779192000@lealmanexchange.org
SUMMARY:SilverSneakers® EnerChi
DESCRIPTION:SilverSneakers® EnerChi\nHeld Tuesdays\, 11AM – 12PM\nThis class uses modified Tai Chi and yoga movements in a slow\, flowing sequence to improve balance and flexibility. A chair is provided for support. Mats are optional. \nHosted by the YMCA of Greater St. Petersburg – https://www.stpeteymca.org/locations/resource-centers/ymca-at-lealman-exchange/
URL:https://lealmanexchange.org/event/silversneakers-enerchi/2026-05-19/
LOCATION:Lealman Exchange\, 5175 45TH ST N\, Lealman\, FL\, 33714\, United States
CATEGORIES:Health and Wellness
ATTACH;FMTTYPE=image/png:https://lealmanexchange.org/wp-content/uploads/2025/11/2.png
ORGANIZER;CN="Lealman Exchange":MAILTO:connect@lealmanexchange.org
END:VEVENT
BEGIN:VEVENT
DTSTART;TZID=America/New_York:20260521T100000
DTEND;TZID=America/New_York:20260521T110000
DTSTAMP:20260422T074953
CREATED:20251118T212845Z
LAST-MODIFIED:20251118T215455Z
UID:10021642-1779357600-1779361200@lealmanexchange.org
SUMMARY:Total Parkinson's
DESCRIPTION:Parkinson’s Disease Programs\nThe Y offers several Community Health Programs to support individuals with Parkinson’s Disease and their care partners. These programs aim to provide a supportive community and instill hope by optimizing function and restoring independence. \n\nTotal Parkinson’s\, an exercise program for various ability levels – Thursdays\, 10:00 – 11:00AM\n\nIndividuals can enroll in one or multiple of these Community Health Programs simultaneously. Learn More \nHosted by the YMCA of Greater St. Petersburg – https://www.stpeteymca.org/locations/resource-centers/ymca-at-lealman-exchange/
URL:https://lealmanexchange.org/event/total-parkinsons/2026-05-21/
LOCATION:Lealman Exchange\, 5175 45TH ST N\, Lealman\, FL\, 33714\, United States
CATEGORIES:Health and Wellness
ATTACH;FMTTYPE=image/png:https://lealmanexchange.org/wp-content/uploads/2025/11/3.png
ORGANIZER;CN="Lealman Exchange":MAILTO:connect@lealmanexchange.org
END:VEVENT
BEGIN:VEVENT
DTSTART;TZID=America/New_York:20260521T100000
DTEND;TZID=America/New_York:20260521T110000
DTSTAMP:20260422T074953
CREATED:20251118T214415Z
LAST-MODIFIED:20251118T215357Z
UID:10022653-1779357600-1779361200@lealmanexchange.org
SUMMARY:YMCA Neuro Challenge Care Partner Connection Support Group
DESCRIPTION:Parkinson’s Disease Programs\nThe Y offers several Community Health Programs to support individuals with Parkinson’s Disease and their care partners. These programs aim to provide a supportive community and instill hope by optimizing function and restoring independence. \n\nYMCA Neuro Challenge Care Partner Connection Support Group – Thursdays\, 10:00 – 11:00AM\n\nIndividuals can enroll in one or multiple of these Community Health Programs simultaneously. Learn More \nHosted by the YMCA of Greater St. Petersburg – https://www.stpeteymca.org/locations/resource-centers/ymca-at-lealman-exchange/
URL:https://lealmanexchange.org/event/ymca-neuro-challenge-care-partner-connection-support-group/2026-05-21/
LOCATION:Lealman Exchange\, 5175 45TH ST N\, Lealman\, FL\, 33714\, United States
CATEGORIES:Community
ATTACH;FMTTYPE=image/png:https://lealmanexchange.org/wp-content/uploads/2025/11/4.png
ORGANIZER;CN="Lealman Exchange":MAILTO:connect@lealmanexchange.org
END:VEVENT
BEGIN:VEVENT
DTSTART;TZID=America/New_York:20260521T110000
DTEND;TZID=America/New_York:20260521T120000
DTSTAMP:20260422T074953
CREATED:20251118T213838Z
LAST-MODIFIED:20251118T215330Z
UID:10022395-1779361200-1779364800@lealmanexchange.org
SUMMARY:YMCA Mindful Movement
DESCRIPTION:YMCA Mindful Movement\nHeld Thursdays\, 11AM – 12PM\nA therapeutic adaptive yoga class. Chair is optional. \nHosted by the YMCA of Greater St. Petersburg – https://www.stpeteymca.org/locations/resource-centers/ymca-at-lealman-exchange/
URL:https://lealmanexchange.org/event/ymca-mindful-movement/2026-05-21/
LOCATION:Lealman Exchange\, 5175 45TH ST N\, Lealman\, FL\, 33714\, United States
CATEGORIES:Health and Wellness
ATTACH;FMTTYPE=image/png:https://lealmanexchange.org/wp-content/uploads/2025/11/5.png
ORGANIZER;CN="Lealman Exchange":MAILTO:connect@lealmanexchange.org
END:VEVENT
BEGIN:VEVENT
DTSTART;TZID=America/New_York:20260526T100000
DTEND;TZID=America/New_York:20260526T110000
DTSTAMP:20260422T074953
CREATED:20251118T212845Z
LAST-MODIFIED:20251118T215455Z
UID:10021643-1779789600-1779793200@lealmanexchange.org
SUMMARY:Total Parkinson's
DESCRIPTION:Parkinson’s Disease Programs\nThe Y offers several Community Health Programs to support individuals with Parkinson’s Disease and their care partners. These programs aim to provide a supportive community and instill hope by optimizing function and restoring independence. \n\nTotal Parkinson’s\, an exercise program for various ability levels – Thursdays\, 10:00 – 11:00AM\n\nIndividuals can enroll in one or multiple of these Community Health Programs simultaneously. Learn More \nHosted by the YMCA of Greater St. Petersburg – https://www.stpeteymca.org/locations/resource-centers/ymca-at-lealman-exchange/
URL:https://lealmanexchange.org/event/total-parkinsons/2026-05-26/
LOCATION:Lealman Exchange\, 5175 45TH ST N\, Lealman\, FL\, 33714\, United States
CATEGORIES:Health and Wellness
ATTACH;FMTTYPE=image/png:https://lealmanexchange.org/wp-content/uploads/2025/11/3.png
ORGANIZER;CN="Lealman Exchange":MAILTO:connect@lealmanexchange.org
END:VEVENT
BEGIN:VEVENT
DTSTART;TZID=America/New_York:20260526T110000
DTEND;TZID=America/New_York:20260526T120000
DTSTAMP:20260422T074953
CREATED:20251118T213237Z
LAST-MODIFIED:20251118T215426Z
UID:10022138-1779793200-1779796800@lealmanexchange.org
SUMMARY:SilverSneakers® EnerChi
DESCRIPTION:SilverSneakers® EnerChi\nHeld Tuesdays\, 11AM – 12PM\nThis class uses modified Tai Chi and yoga movements in a slow\, flowing sequence to improve balance and flexibility. A chair is provided for support. Mats are optional. \nHosted by the YMCA of Greater St. Petersburg – https://www.stpeteymca.org/locations/resource-centers/ymca-at-lealman-exchange/
URL:https://lealmanexchange.org/event/silversneakers-enerchi/2026-05-26/
LOCATION:Lealman Exchange\, 5175 45TH ST N\, Lealman\, FL\, 33714\, United States
CATEGORIES:Health and Wellness
ATTACH;FMTTYPE=image/png:https://lealmanexchange.org/wp-content/uploads/2025/11/2.png
ORGANIZER;CN="Lealman Exchange":MAILTO:connect@lealmanexchange.org
END:VEVENT
BEGIN:VEVENT
DTSTART;TZID=America/New_York:20260528T100000
DTEND;TZID=America/New_York:20260528T110000
DTSTAMP:20260422T074953
CREATED:20251118T212845Z
LAST-MODIFIED:20251118T215455Z
UID:10021644-1779962400-1779966000@lealmanexchange.org
SUMMARY:Total Parkinson's
DESCRIPTION:Parkinson’s Disease Programs\nThe Y offers several Community Health Programs to support individuals with Parkinson’s Disease and their care partners. These programs aim to provide a supportive community and instill hope by optimizing function and restoring independence. \n\nTotal Parkinson’s\, an exercise program for various ability levels – Thursdays\, 10:00 – 11:00AM\n\nIndividuals can enroll in one or multiple of these Community Health Programs simultaneously. Learn More \nHosted by the YMCA of Greater St. Petersburg – https://www.stpeteymca.org/locations/resource-centers/ymca-at-lealman-exchange/
URL:https://lealmanexchange.org/event/total-parkinsons/2026-05-28/
LOCATION:Lealman Exchange\, 5175 45TH ST N\, Lealman\, FL\, 33714\, United States
CATEGORIES:Health and Wellness
ATTACH;FMTTYPE=image/png:https://lealmanexchange.org/wp-content/uploads/2025/11/3.png
ORGANIZER;CN="Lealman Exchange":MAILTO:connect@lealmanexchange.org
END:VEVENT
BEGIN:VEVENT
DTSTART;TZID=America/New_York:20260528T100000
DTEND;TZID=America/New_York:20260528T110000
DTSTAMP:20260422T074953
CREATED:20251118T214415Z
LAST-MODIFIED:20251118T215357Z
UID:10022654-1779962400-1779966000@lealmanexchange.org
SUMMARY:YMCA Neuro Challenge Care Partner Connection Support Group
DESCRIPTION:Parkinson’s Disease Programs\nThe Y offers several Community Health Programs to support individuals with Parkinson’s Disease and their care partners. These programs aim to provide a supportive community and instill hope by optimizing function and restoring independence. \n\nYMCA Neuro Challenge Care Partner Connection Support Group – Thursdays\, 10:00 – 11:00AM\n\nIndividuals can enroll in one or multiple of these Community Health Programs simultaneously. Learn More \nHosted by the YMCA of Greater St. Petersburg – https://www.stpeteymca.org/locations/resource-centers/ymca-at-lealman-exchange/
URL:https://lealmanexchange.org/event/ymca-neuro-challenge-care-partner-connection-support-group/2026-05-28/
LOCATION:Lealman Exchange\, 5175 45TH ST N\, Lealman\, FL\, 33714\, United States
CATEGORIES:Community
ATTACH;FMTTYPE=image/png:https://lealmanexchange.org/wp-content/uploads/2025/11/4.png
ORGANIZER;CN="Lealman Exchange":MAILTO:connect@lealmanexchange.org
END:VEVENT
BEGIN:VEVENT
DTSTART;TZID=America/New_York:20260528T110000
DTEND;TZID=America/New_York:20260528T120000
DTSTAMP:20260422T074953
CREATED:20251118T213838Z
LAST-MODIFIED:20251118T215330Z
UID:10022396-1779966000-1779969600@lealmanexchange.org
SUMMARY:YMCA Mindful Movement
DESCRIPTION:YMCA Mindful Movement\nHeld Thursdays\, 11AM – 12PM\nA therapeutic adaptive yoga class. Chair is optional. \nHosted by the YMCA of Greater St. Petersburg – https://www.stpeteymca.org/locations/resource-centers/ymca-at-lealman-exchange/
URL:https://lealmanexchange.org/event/ymca-mindful-movement/2026-05-28/
LOCATION:Lealman Exchange\, 5175 45TH ST N\, Lealman\, FL\, 33714\, United States
CATEGORIES:Health and Wellness
ATTACH;FMTTYPE=image/png:https://lealmanexchange.org/wp-content/uploads/2025/11/5.png
ORGANIZER;CN="Lealman Exchange":MAILTO:connect@lealmanexchange.org
END:VEVENT
END:VCALENDAR