BEGIN:VCALENDAR
VERSION:2.0
PRODID:-//Lealman Exchange - ECPv6.15.20//NONSGML v1.0//EN
CALSCALE:GREGORIAN
METHOD:PUBLISH
X-ORIGINAL-URL:https://lealmanexchange.org
X-WR-CALDESC:Events for Lealman Exchange
REFRESH-INTERVAL;VALUE=DURATION:PT1H
X-Robots-Tag:noindex
X-PUBLISHED-TTL:PT1H
BEGIN:VTIMEZONE
TZID:America/New_York
BEGIN:DAYLIGHT
TZOFFSETFROM:-0500
TZOFFSETTO:-0400
TZNAME:EDT
DTSTART:20250309T070000
END:DAYLIGHT
BEGIN:STANDARD
TZOFFSETFROM:-0400
TZOFFSETTO:-0500
TZNAME:EST
DTSTART:20251102T060000
END:STANDARD
BEGIN:DAYLIGHT
TZOFFSETFROM:-0500
TZOFFSETTO:-0400
TZNAME:EDT
DTSTART:20260308T070000
END:DAYLIGHT
BEGIN:STANDARD
TZOFFSETFROM:-0400
TZOFFSETTO:-0500
TZNAME:EST
DTSTART:20261101T060000
END:STANDARD
BEGIN:DAYLIGHT
TZOFFSETFROM:-0500
TZOFFSETTO:-0400
TZNAME:EDT
DTSTART:20270314T070000
END:DAYLIGHT
BEGIN:STANDARD
TZOFFSETFROM:-0400
TZOFFSETTO:-0500
TZNAME:EST
DTSTART:20271107T060000
END:STANDARD
END:VTIMEZONE
BEGIN:VEVENT
DTSTART;TZID=America/New_York:20260402T100000
DTEND;TZID=America/New_York:20260402T110000
DTSTAMP:20260422T081911
CREATED:20251118T212845Z
LAST-MODIFIED:20251118T215455Z
UID:10021628-1775124000-1775127600@lealmanexchange.org
SUMMARY:Total Parkinson's
DESCRIPTION:Parkinson’s Disease Programs\nThe Y offers several Community Health Programs to support individuals with Parkinson’s Disease and their care partners. These programs aim to provide a supportive community and instill hope by optimizing function and restoring independence. \n\nTotal Parkinson’s\, an exercise program for various ability levels – Thursdays\, 10:00 – 11:00AM\n\nIndividuals can enroll in one or multiple of these Community Health Programs simultaneously. Learn More \nHosted by the YMCA of Greater St. Petersburg – https://www.stpeteymca.org/locations/resource-centers/ymca-at-lealman-exchange/
URL:https://lealmanexchange.org/event/total-parkinsons/2026-04-02/
LOCATION:Lealman Exchange\, 5175 45TH ST N\, Lealman\, FL\, 33714\, United States
CATEGORIES:Health and Wellness
ATTACH;FMTTYPE=image/png:https://lealmanexchange.org/wp-content/uploads/2025/11/3.png
ORGANIZER;CN="Lealman Exchange":MAILTO:connect@lealmanexchange.org
END:VEVENT
BEGIN:VEVENT
DTSTART;TZID=America/New_York:20260402T100000
DTEND;TZID=America/New_York:20260402T110000
DTSTAMP:20260422T081911
CREATED:20251118T214415Z
LAST-MODIFIED:20251118T215357Z
UID:10022646-1775124000-1775127600@lealmanexchange.org
SUMMARY:YMCA Neuro Challenge Care Partner Connection Support Group
DESCRIPTION:Parkinson’s Disease Programs\nThe Y offers several Community Health Programs to support individuals with Parkinson’s Disease and their care partners. These programs aim to provide a supportive community and instill hope by optimizing function and restoring independence. \n\nYMCA Neuro Challenge Care Partner Connection Support Group – Thursdays\, 10:00 – 11:00AM\n\nIndividuals can enroll in one or multiple of these Community Health Programs simultaneously. Learn More \nHosted by the YMCA of Greater St. Petersburg – https://www.stpeteymca.org/locations/resource-centers/ymca-at-lealman-exchange/
URL:https://lealmanexchange.org/event/ymca-neuro-challenge-care-partner-connection-support-group/2026-04-02/
LOCATION:Lealman Exchange\, 5175 45TH ST N\, Lealman\, FL\, 33714\, United States
CATEGORIES:Community
ATTACH;FMTTYPE=image/png:https://lealmanexchange.org/wp-content/uploads/2025/11/4.png
ORGANIZER;CN="Lealman Exchange":MAILTO:connect@lealmanexchange.org
END:VEVENT
BEGIN:VEVENT
DTSTART;TZID=America/New_York:20260402T110000
DTEND;TZID=America/New_York:20260402T120000
DTSTAMP:20260422T081911
CREATED:20251118T213838Z
LAST-MODIFIED:20251118T215330Z
UID:10022388-1775127600-1775131200@lealmanexchange.org
SUMMARY:YMCA Mindful Movement
DESCRIPTION:YMCA Mindful Movement\nHeld Thursdays\, 11AM – 12PM\nA therapeutic adaptive yoga class. Chair is optional. \nHosted by the YMCA of Greater St. Petersburg – https://www.stpeteymca.org/locations/resource-centers/ymca-at-lealman-exchange/
URL:https://lealmanexchange.org/event/ymca-mindful-movement/2026-04-02/
LOCATION:Lealman Exchange\, 5175 45TH ST N\, Lealman\, FL\, 33714\, United States
CATEGORIES:Health and Wellness
ATTACH;FMTTYPE=image/png:https://lealmanexchange.org/wp-content/uploads/2025/11/5.png
ORGANIZER;CN="Lealman Exchange":MAILTO:connect@lealmanexchange.org
END:VEVENT
END:VCALENDAR