BEGIN:VCALENDAR
VERSION:2.0
PRODID:-//Lealman Exchange - ECPv6.15.20//NONSGML v1.0//EN
CALSCALE:GREGORIAN
METHOD:PUBLISH
X-WR-CALNAME:Lealman Exchange
X-ORIGINAL-URL:https://lealmanexchange.org
X-WR-CALDESC:Events for Lealman Exchange
REFRESH-INTERVAL;VALUE=DURATION:PT1H
X-Robots-Tag:noindex
X-PUBLISHED-TTL:PT1H
BEGIN:VTIMEZONE
TZID:America/New_York
BEGIN:DAYLIGHT
TZOFFSETFROM:-0500
TZOFFSETTO:-0400
TZNAME:EDT
DTSTART:20250309T070000
END:DAYLIGHT
BEGIN:STANDARD
TZOFFSETFROM:-0400
TZOFFSETTO:-0500
TZNAME:EST
DTSTART:20251102T060000
END:STANDARD
BEGIN:DAYLIGHT
TZOFFSETFROM:-0500
TZOFFSETTO:-0400
TZNAME:EDT
DTSTART:20260308T070000
END:DAYLIGHT
BEGIN:STANDARD
TZOFFSETFROM:-0400
TZOFFSETTO:-0500
TZNAME:EST
DTSTART:20261101T060000
END:STANDARD
BEGIN:DAYLIGHT
TZOFFSETFROM:-0500
TZOFFSETTO:-0400
TZNAME:EDT
DTSTART:20270314T070000
END:DAYLIGHT
BEGIN:STANDARD
TZOFFSETFROM:-0400
TZOFFSETTO:-0500
TZNAME:EST
DTSTART:20271107T060000
END:STANDARD
END:VTIMEZONE
BEGIN:VEVENT
DTSTART;TZID=America/New_York:20260419T133000
DTEND;TZID=America/New_York:20260419T143000
DTSTAMP:20260425T065706
CREATED:20260128T154133Z
LAST-MODIFIED:20260128T184913Z
UID:10023184-1776605400-1776609000@lealmanexchange.org
SUMMARY:AKC S.T.A.R. Puppy Class\, presented by Project PUP
DESCRIPTION:Join us for a 6-week course for puppies 4 months + with rabies vaccination.  Our classes are led by certified AKC S.T.A.R. Puppy evaluators\, ensuring your pup receives the best training possible in a supportive environment. \nS.T.A.R. stands for Socialization\, Training\, Activity\, and a Responsible owner. \n\nSundays\, April 12 – May 17 – 1:30pm-2:30pm\nHeld in the Lealman Exchange Neri Event Room – 5175 45th Street North\, 33714\nMust register and pay class fee in advance in order to attend\n\nLearn more and register at https://projectpup.net/star-puppy-and-basic-obedience/ 
URL:https://lealmanexchange.org/event/akc-s-t-a-r-puppy-class-presented-by-project-pup/2026-04-19/
LOCATION:Lealman Exchange\, 5175 45TH ST N\, Lealman\, FL\, 33714\, United States
CATEGORIES:Education
ATTACH;FMTTYPE=image/jpeg:https://lealmanexchange.org/wp-content/uploads/2026/01/STAR-Puppy-flyer.jpg
ORGANIZER;CN="Lealman Exchange":MAILTO:connect@lealmanexchange.org
END:VEVENT
BEGIN:VEVENT
DTSTART;TZID=America/New_York:20260419T110000
DTEND;TZID=America/New_York:20260419T123000
DTSTAMP:20260425T065706
CREATED:20260128T161104Z
LAST-MODIFIED:20260128T184948Z
UID:10023217-1776596400-1776601800@lealmanexchange.org
SUMMARY:Therapy Dog Training\, presented by Project PUP
DESCRIPTION:Join us for a 3-week course for dogs 1 year + with rabies vaccination.  This therapy dog training course cultivates compassionate skills needed for effective public interactions to ensure your dog is ready for therapy work with individuals in need. \nVisit Project PUP’s website for minimum qualifications to enroll. \n\nSundays\, April 12-26 – 11am-12:30pm\nHeld in the Lealman Exchange Neri Event Room – 5175 45th Street North\, 33714\nMust register and pay class fee in advance in order to attend\n\nLearn more and register at https://projectpup.net/classes/
URL:https://lealmanexchange.org/event/therapy-dog-training-presented-by-project-pup-3/2026-04-19/
LOCATION:Lealman Exchange\, 5175 45TH ST N\, Lealman\, FL\, 33714\, United States
CATEGORIES:Education
ATTACH;FMTTYPE=image/jpeg:https://lealmanexchange.org/wp-content/uploads/2026/01/Therapy-Dog-flyer.jpg
ORGANIZER;CN="Lealman Exchange":MAILTO:connect@lealmanexchange.org
END:VEVENT
BEGIN:VEVENT
DTSTART;TZID=America/New_York:20260412T133000
DTEND;TZID=America/New_York:20260412T143000
DTSTAMP:20260425T065706
CREATED:20260128T154133Z
LAST-MODIFIED:20260128T184913Z
UID:10023183-1776000600-1776004200@lealmanexchange.org
SUMMARY:AKC S.T.A.R. Puppy Class\, presented by Project PUP
DESCRIPTION:Join us for a 6-week course for puppies 4 months + with rabies vaccination.  Our classes are led by certified AKC S.T.A.R. Puppy evaluators\, ensuring your pup receives the best training possible in a supportive environment. \nS.T.A.R. stands for Socialization\, Training\, Activity\, and a Responsible owner. \n\nSundays\, April 12 – May 17 – 1:30pm-2:30pm\nHeld in the Lealman Exchange Neri Event Room – 5175 45th Street North\, 33714\nMust register and pay class fee in advance in order to attend\n\nLearn more and register at https://projectpup.net/star-puppy-and-basic-obedience/ 
URL:https://lealmanexchange.org/event/akc-s-t-a-r-puppy-class-presented-by-project-pup/2026-04-12/
LOCATION:Lealman Exchange\, 5175 45TH ST N\, Lealman\, FL\, 33714\, United States
CATEGORIES:Education
ATTACH;FMTTYPE=image/jpeg:https://lealmanexchange.org/wp-content/uploads/2026/01/STAR-Puppy-flyer.jpg
ORGANIZER;CN="Lealman Exchange":MAILTO:connect@lealmanexchange.org
END:VEVENT
BEGIN:VEVENT
DTSTART;TZID=America/New_York:20260412T110000
DTEND;TZID=America/New_York:20260412T123000
DTSTAMP:20260425T065706
CREATED:20260128T161104Z
LAST-MODIFIED:20260128T184948Z
UID:10023216-1775991600-1775997000@lealmanexchange.org
SUMMARY:Therapy Dog Training\, presented by Project PUP
DESCRIPTION:Join us for a 3-week course for dogs 1 year + with rabies vaccination.  This therapy dog training course cultivates compassionate skills needed for effective public interactions to ensure your dog is ready for therapy work with individuals in need. \nVisit Project PUP’s website for minimum qualifications to enroll. \n\nSundays\, April 12-26 – 11am-12:30pm\nHeld in the Lealman Exchange Neri Event Room – 5175 45th Street North\, 33714\nMust register and pay class fee in advance in order to attend\n\nLearn more and register at https://projectpup.net/classes/
URL:https://lealmanexchange.org/event/therapy-dog-training-presented-by-project-pup-3/2026-04-12/
LOCATION:Lealman Exchange\, 5175 45TH ST N\, Lealman\, FL\, 33714\, United States
CATEGORIES:Education
ATTACH;FMTTYPE=image/jpeg:https://lealmanexchange.org/wp-content/uploads/2026/01/Therapy-Dog-flyer.jpg
ORGANIZER;CN="Lealman Exchange":MAILTO:connect@lealmanexchange.org
END:VEVENT
BEGIN:VEVENT
DTSTART;TZID=America/New_York:20260329T133000
DTEND;TZID=America/New_York:20260329T143000
DTSTAMP:20260425T065706
CREATED:20260128T155351Z
LAST-MODIFIED:20260128T185129Z
UID:10023201-1774791000-1774794600@lealmanexchange.org
SUMMARY:Basic Obedience\, presented by Project PUP
DESCRIPTION:Join us for a 7-week course for puppies 4 months + with rabies vaccination.  This foundational training course will help dogs and their handlers build essential skills for a harmonious relationship through consistent communication and understanding\, creating a well-behaved companion for life. \nThis class focuses on essential skills every dog needs to succeed at home and in the community\, using positive reinforcement–based training methods that strengthen the human–animal bond. \n\nSundays\, February 15 – March 29 – 1:30pm-2:30pm\nHeld in the Lealman Exchange Neri Event Room – 5175 45th Street North\, 33714\nMust register and pay class fee in advance in order to attend\n\nLearn more and register at https://projectpup.net/star-puppy-and-basic-obedience/ 
URL:https://lealmanexchange.org/event/basic-obedience-presented-by-project-pup/2026-03-29/
LOCATION:Lealman Exchange\, 5175 45TH ST N\, Lealman\, FL\, 33714\, United States
CATEGORIES:Education
ATTACH;FMTTYPE=image/jpeg:https://lealmanexchange.org/wp-content/uploads/2026/01/Basic-Obedience.jpg
ORGANIZER;CN="Lealman Exchange":MAILTO:connect@lealmanexchange.org
END:VEVENT
BEGIN:VEVENT
DTSTART;TZID=America/New_York:20260329T110000
DTEND;TZID=America/New_York:20260329T123000
DTSTAMP:20260425T065706
CREATED:20260128T145737Z
LAST-MODIFIED:20260128T153052Z
UID:10023178-1774782000-1774787400@lealmanexchange.org
SUMMARY:Hiking & Walking with Your Dog\, presented by Project PUP
DESCRIPTION:Join us for a free 90-minute session on safety on and off the trail\, taught by a certified PetTech instructor.  Includes the top six pet first aid situations you may encounter.  This friendly and educational session is for humans only. \n\nSunday\, March 29th – 11am-12:30pm\nHeld in the Lealman Exchange Neri Event Room – 5175 45th Street North\, 33714\n\nRSVP by March 20th at projectpup@yahoo.com.  Include your name\, address\, and how many will be attending from your party \nLearn more at https://projectpup.net/
URL:https://lealmanexchange.org/event/hiking-walking-with-your-dog-presented-by-project-pup/
LOCATION:Lealman Exchange\, 5175 45TH ST N\, Lealman\, FL\, 33714\, United States
CATEGORIES:Education
ATTACH;FMTTYPE=image/jpeg:https://lealmanexchange.org/wp-content/uploads/2026/01/Hiking-with-your-Dog.jpg
ORGANIZER;CN="Lealman Exchange":MAILTO:connect@lealmanexchange.org
END:VEVENT
END:VCALENDAR